BEGIN:VCALENDAR
METHOD:PUBLISH
PRODID:-//4266@www.region-coburg.tv//NONSGML iCalcreator 2.4.3//
VERSION:2.0
BEGIN:VEVENT
UID:4266-20180527110000-20180527000000@www.region-coburg.tv
DTSTAMP:20260424T064257Z
CONTACT:Eintritt frei!
CREATED:20180328T163800Z
DESCRIPTION:MacbethTragödie von William ShakespeareLandestheater Coburg\, 
 Matinée zur Premiere am 2. Juni 2018 - Tickets: Eintritt frei!
DTEND:20180527T000000
DTSTART:20180527T110000
LAST-MODIFIED:20180328T163800Z
LOCATION:Landestheater Coburg\, Reithalle
SUMMARY:Matinée
X-IMAGE:http://www.region-coburg.tv/images/medium/ltc-7b7cb14f.jpg
END:VEVENT
END:VCALENDAR
