BEGIN:VCALENDAR
METHOD:PUBLISH
PRODID:-//4264@www.region-coburg.tv//NONSGML iCalcreator 2.4.3//
VERSION:2.0
BEGIN:VEVENT
UID:4264-20180616193000-20180616000000@www.region-coburg.tv
DTSTAMP:20260424T095350Z
CONTACT:09561 / 898989
CREATED:20180328T162500Z
DESCRIPTION:Der FeuervogelDreiteiliger Ballettabend mit Musik von Igor Stra
 winskyStrawinsky\, die Zweite! Nach dem neuen Ballett „Die Geschichte vo
 m Soldaten' wird dies der große dreiteilige Abend im großen Coburger Hau
 s. Im Zentrum steht diesmal Igor Strawinskys Ballett-Märchen „Der Feuer
 vogel' aus dem Jahre 1910\, als die Welt noch in Ordnung und das Pariser P
 ublikum immer auf der Suche nach der neuesten Musikmode war. Zu Gast waren
  einmal mehr die „Ballets Russe' des Impresarios Djagilew. Er wusste\, w
 ie er das Pariser Publikum beeindrucken konnte. Russische Märchen – get
 anzt zu moderner Musik in bis dahin unbekannten Ausstattungs-Orgien. Und d
 as kam an. Wer in Paris en vogue sein wollte\, musste diese Ballette geseh
 en haben.VideoLandestheater Coburg\, Premiere am 12. Mai 2018 - Tickets: 0
 9561 / 898989
DTEND:20180616T000000
DTSTART:20180616T193000
LAST-MODIFIED:20180328T162500Z
LOCATION:Landestheater Coburg\, Großes Haus
SUMMARY:Der Feuervogel
X-IMAGE:http://www.region-coburg.tv/images/medium/feuervogel-vh-4cacce0c.jp
 g
END:VEVENT
END:VCALENDAR
