BEGIN:VCALENDAR
METHOD:PUBLISH
PRODID:-//4263@www.region-coburg.tv//NONSGML iCalcreator 2.4.3//
VERSION:2.0
BEGIN:VEVENT
UID:4263-20180424190000-20180424000000@www.region-coburg.tv
DTSTAMP:20260424T001839Z
CONTACT:Eintritt frei
CREATED:20180328T161500Z
DESCRIPTION:Der FeuervogelDreiteiliger Ballettabend mit Musik von Igor Stra
 winskyLandestheater Coburg\, Premiere am 12. Mai 2018 - Tickets: Eintritt 
 frei
DTEND:20180424T000000
DTSTART:20180424T190000
LAST-MODIFIED:20180328T161500Z
LOCATION:Landestheater\, Großes Haus
SUMMARY:Soiree
X-IMAGE:http://www.region-coburg.tv/images/medium/ltc-7b7cb14f.jpg
END:VEVENT
END:VCALENDAR
