BEGIN:VCALENDAR
METHOD:PUBLISH
PRODID:-//4262@www.region-coburg.tv//NONSGML iCalcreator 2.4.3//
VERSION:2.0
BEGIN:VEVENT
UID:4262-20180422180000-20180422000000@www.region-coburg.tv
DTSTAMP:20260424T002448Z
CONTACT:09561 / 898989
CREATED:20180328T160800Z
DESCRIPTION:RusalkaOper von Antonín Dvořák | In tschechischer Sprache mi
 t deutschen ÜbertitelnIn den vergangenen Jahren wurde die slawische Oper 
 in Coburg liebevoll gepflegt. Generalmusikdirektor Roland Kluttig stellte 
 „Katja Kabanowa' ebenso vor wie „Die verkaufte Braut' und zuletzt „D
 as schlaue Füchslein'.Nun folgt eine der schönsten Märchenopern der Mus
 ikgeschichte: „Rusalka'. Interessanterweise entstand sie im gleichen Jah
 r wie Puccinis „Tosca' und ist doch so ganz anders. Oder nicht? Beide Ko
 mponisten – der eine in Italien\, der andere in Böhmen – überwanden 
 auf ihre Weise die übermächtigen Ideen und Wirkungen eines gewissen Rich
 ard Wagner. Und dennoch: Puccini wie Dvořák setzten in ihren Werken auf 
 Leitmotive\, wenngleich die völlig unterschiedlich daherkommen.VideoLande
 stheater Coburg\, Premiere am 22. April 2018 - Tickets: 09561 / 898989
DTEND:20180422T000000
DTSTART:20180422T180000
LAST-MODIFIED:20180328T160800Z
LOCATION:Landestheater Coburg\, Großes Haus
SUMMARY:Rusalka
X-IMAGE:http://www.region-coburg.tv/images/medium/rusalka-vh-9f7dd626.jpg
END:VEVENT
END:VCALENDAR
