BEGIN:VCALENDAR
METHOD:PUBLISH
PRODID:-//4261@www.region-coburg.tv//NONSGML iCalcreator 2.4.3//
VERSION:2.0
BEGIN:VEVENT
UID:4261-20180412200000-20180412000000@www.region-coburg.tv
DTSTAMP:20260424T002016Z
CONTACT:09561 / 898989
CREATED:20180328T160000Z
DESCRIPTION:Schauspiel von Florian Zeller | In Kooperation mit dem Demenz-N
 etzwerk-Coburg des Landkreises Coburg und der Gesundheitsregion PlusNein\,
  diesmal füllen wir keinen Honig in den Kopf. Florian Zellers Stück „V
 ater' behandelt zwar ein ähnliches Thema\, kommt aber faszinierend anders
  daher. Der junge französische Dramatiker erzählt die Geschichte des 80
 -jährigen André\, der an Alzheimer erkrankt. Seine ältere Tochter Anne 
 soll davon nichts mitbekommen\, weiß aber\, dass ihr Vater nicht mehr all
 ein in der Wohnung zurechtkommt.VideoLandestheater Coburg\, Wiederaufnahme
  - Tickets: 09561 / 898989
DTEND:20180412T000000
DTSTART:20180412T200000
LAST-MODIFIED:20180328T160000Z
LOCATION:Coburg\, Theater in der Reithalle
SUMMARY:Vater
X-IMAGE:http://www.region-coburg.tv/images/medium/vater-vh-ada879a4.jpg
END:VEVENT
END:VCALENDAR
