BEGIN:VCALENDAR
METHOD:PUBLISH
PRODID:-//4260@www.region-coburg.tv//NONSGML iCalcreator 2.4.3//
VERSION:2.0
BEGIN:VEVENT
UID:4260-20180408110000-20180408000000@www.region-coburg.tv
DTSTAMP:20260424T224137Z
CONTACT:Eintritt frei!
CREATED:20180328T155500Z
DESCRIPTION:RusalkaOper von Antonín Dvořák | In tschechischer Sprache mi
 t deutschen ÜbertitelnLandestheater Coburg\, Matinée zur Premiere am 22.
  April 2018 - Tickets: Eintritt frei!
DTEND:20180408T000000
DTSTART:20180408T110000
LAST-MODIFIED:20180328T155500Z
LOCATION:Landestheater Coburg\, Großes Haus
SUMMARY:Matinée
X-IMAGE:http://www.region-coburg.tv/images/medium/ltc-7b7cb14f.jpg
END:VEVENT
END:VCALENDAR
