BEGIN:VCALENDAR
METHOD:PUBLISH
PRODID:-//4259@www.region-coburg.tv//NONSGML iCalcreator 2.4.3//
VERSION:2.0
BEGIN:VEVENT
UID:4259-20180407193000-20180407000000@www.region-coburg.tv
DTSTAMP:20260424T224404Z
CONTACT:09561 / 898989
CREATED:20180328T155000Z
DESCRIPTION:GeächtetSchauspiel von Ayad AkhtarAmerikanisches Schauspiel ha
 t es nicht immer leicht in Deutschland. Anders wird es\, wenn ein Stück d
 en Pulitzerpreis gewinnt. Ayad Akhtars Tragik-Komödie „Geächtet' hat d
 iese Auszeichnung 2013 erhalten.VideoLandestheater Coburg\, Premiere am 7.
  April 2018 - Tickets: 09561 / 898989
DTEND:20180407T000000
DTSTART:20180407T193000
LAST-MODIFIED:20180328T155000Z
LOCATION:Landestheater Coburg\, Großes Haus
SUMMARY:Geächtet
X-IMAGE:http://www.region-coburg.tv/images/medium/geaechtet-vh-904a0318.jpg
END:VEVENT
END:VCALENDAR
