BEGIN:VCALENDAR
METHOD:PUBLISH
PRODID:-//4258@www.region-coburg.tv//NONSGML iCalcreator 2.4.3//
VERSION:2.0
BEGIN:VEVENT
UID:4258-20180406210000-20180406000000@www.region-coburg.tv
DTSTAMP:20260424T224630Z
CONTACT:09561 / 898989
CREATED:20180328T154900Z
DESCRIPTION:Bühne frei für alles Schräge und Spontane: Auch in dieser Sp
 ielzeit dürfen sich die Ensemblemitglieder auf der Freistaat-Bühne austo
 ben und all das ausprobieren\, worauf sie schon immer Lust hatten.Diesmal 
 zeigt uns das Ballett Coburg wie ein Freistaat durchgeführt werden soll. 
 Wer schon einmal da war\, weiß genau: Möglich ist an diesem Abend fast a
 lles. Der Phantasie sind keine Grenzen gesetzt. - Tickets: 09561 / 898989
DTEND:20180406T000000
DTSTART:20180406T210000
LAST-MODIFIED:20180328T154900Z
LOCATION:Coburg\, Theater in der Reithalle
SUMMARY:Freistaat Coburg
X-IMAGE:http://www.region-coburg.tv/images/medium/logo-ltc-freistaat-947966
 f2.jpg
END:VEVENT
END:VCALENDAR
