BEGIN:VCALENDAR
METHOD:PUBLISH
PRODID:-//4243@www.region-coburg.tv//NONSGML iCalcreator 2.4.3//
VERSION:2.0
BEGIN:VEVENT
UID:4243-20180308200000-20180308000000@www.region-coburg.tv
DTSTAMP:20260421T074500Z
CONTACT: 09561 / 891420
CREATED:20180221T181300Z
DESCRIPTION:Zum Internationalen Frauentag'Frauenwelten ... die Vielfalt ent
 decken' ist das Motto des diesjährigen „Internationalen Frauentags“. 
 Gestartet wird mit einem Comedy-Abend am Donnerstag\, den 01. März im „
 Münchner Hofbräu“. Mirja Regensburg zeigt in ihrem Soloprogramm „Mä
 delsabend“ die Verrücktheiten des Lebens auf. Am Donnerstag\, den 08. M
 ärz überrascht dann Peggy Hofmann in der Coburger Stadtbücherei mit Leb
 ensart-Erzählungen über „Starke Frauen – damals wie heute“. - Tick
 ets:  09561 / 891420
DTEND:20180308T000000
DTSTART:20180308T200000
LAST-MODIFIED:20180221T181300Z
LOCATION:Coburg\, Stadtbücherei
SUMMARY:Peggy Hofmann
X-IMAGE:http://www.region-coburg.tv/images/medium/hofmann-vh-6e08429d.jpg
END:VEVENT
END:VCALENDAR
