BEGIN:VCALENDAR
METHOD:PUBLISH
PRODID:-//4238@www.region-coburg.tv//NONSGML iCalcreator 2.4.3//
VERSION:2.0
BEGIN:VEVENT
UID:4238-20180424201500-20180424000000@www.region-coburg.tv
DTSTAMP:20260421T105132Z
CONTACT:09561 / 239051
CREATED:20180205T200600Z
DESCRIPTION:In Zusammenarbeit mit BUND Naturschutz CoburgIn seinem Film beo
 bachtet Regisseur Nicolas Humbert eine neue Gartenbewegung in Amerika und 
 Europa\, die Städte ideenreich grüner machen will. Er zeigt urbane Gärt
 en in Detroit\, wilde Plantagen des berühmten Züricher Guerilla-Gärtner
 s Maurice Maggi\, die „Jardins de Cocagne“ in Genf und spricht mit dem
  Philosophen Milo Yellow Hair sowie einem amerikanischen Ureinwohner. Der 
 Film zeigt inspirierende Orte und erzählt Geschichten von Menschen\, die 
 nur auf den ersten Blick nichts miteinander zu tun haben. Denn sie alle ei
 nt die Sehnsucht nach einem sinnstiftenden\, naturverbundenen Leben und ei
 nem Ausweg aus Konsum und Alltagshektik. Ein ästhetisch anspruchsvolle Do
 kumentarfilm mit Bildern voller stiller Poesie und Schönheit und einer Be
 geisterung\, die ansteckend wirkt.VHS-Film der Woche | USA\, Deutschland\
 , Schweiz 2017 - Tickets: 09561 / 239051
DTEND:20180424T000000
DTSTART:20180424T201500
LAST-MODIFIED:20180205T200600Z
LOCATION:Coburg\, Kino Utopolis
SUMMARY:Wild Plants
X-IMAGE:http://www.region-coburg.tv/images/medium/vhs-film-1276db0f.jpg
END:VEVENT
END:VCALENDAR
