BEGIN:VCALENDAR
METHOD:PUBLISH
PRODID:-//4237@www.region-coburg.tv//NONSGML iCalcreator 2.4.3//
VERSION:2.0
BEGIN:VEVENT
UID:4237-20180418200000-20180418000000@www.region-coburg.tv
DTSTAMP:20260421T092026Z
CONTACT:09561 / 239051
CREATED:20180205T200300Z
DESCRIPTION:Pass‘ ich hier rein oder passt bei Dir was nicht? Ahmet Özer
  und Johannes Titze\, im Coburger Raum bestens bekannt als das Künstler-D
 uo „Radio Influenza“\, stellen ihre neue Produktion vor. „Impression
 en Anpassungsgestörter“ lässt kurze Texte\, die biografische Elemente 
 mit Fiktionalem verbinden\, mit Bildern\, Video und Ton zirkulieren. Die S
 how lädt zu unterschiedlichen Wahrnehmungen ein\, der spielerische Ansatz
  stellt radikal die Frage nach Repräsentation und Partizipation eines jed
 en Individuums. „Impressionen Anpassungsgestörter “ wird in diesem Si
 nne ein sehr persönlicher Abend mit vielen Facetten. Unnahbar\, neugierig
  lustig\, stark\, schräg\, verletzlich – und immer bereit\, es mit dem 
 Leben aufzunehmen. Passt Du dazu?Lesung und Multimedia-Show mit Ahmet Öze
 r und Johannes Titze - Tickets: 09561 / 239051
DTEND:20180418T000000
DTSTART:20180418T200000
LAST-MODIFIED:20180205T200300Z
LOCATION:Coburg\, Kino Utopolis
SUMMARY:Radio Influenza
X-IMAGE:http://www.region-coburg.tv/images/medium/vhs-film-1276db0f.jpg
END:VEVENT
END:VCALENDAR
