BEGIN:VCALENDAR
METHOD:PUBLISH
PRODID:-//4236@www.region-coburg.tv//NONSGML iCalcreator 2.4.3//
VERSION:2.0
BEGIN:VEVENT
UID:4236-20180411201500-20180411000000@www.region-coburg.tv
DTSTAMP:20260421T091931Z
CONTACT:09561 / 239051
CREATED:20180205T200000Z
DESCRIPTION:„Früher war alles besser“\, meint der Alte: Die Frau kümm
 erte sich um die Kinder\, der Mann baute ein Haus mit seinen eigenen Händ
 en. Doch auch hier bröckelt der Putz: Die Frau des Alten leidet an Demenz
  und er verstaucht sich bei einem Unfall den Knöchel. Er muss bei seinem 
 Sohn und dessen Familie in Helsinki unterkommen und tut sich schwer: Plöt
 zlich gibt es Mate statt Kaffee und Soja statt Hack. Dass seine Schwiegert
 ochter Liisa voll im Leben steht\, passt dem alten Griegram kein bisschen.
  Streit ist vorprogrammiert und das Familienleben kommt gehörig durcheina
 nder. In seiner bissigen  Familienkomödie verzichtet Regisseur Dome Karu
 koski auf plakative Versöhnungen\, wie man sie eigentlich erwarten würde
 . Stattdessen appelliert der Film für mehr Flexibilität im Denken und Ha
 ndeln aller Generationen.VHS-Film der Woche | Finnland 2017 - Tickets: 095
 61 / 239051
DTEND:20180411T000000
DTSTART:20180411T201500
LAST-MODIFIED:20180205T200000Z
LOCATION:Coburg\, Kino Utopolis
SUMMARY:Kaffee mit Milch und Stress
X-IMAGE:http://www.region-coburg.tv/images/medium/vhs-film-1276db0f.jpg
END:VEVENT
END:VCALENDAR
