BEGIN:VCALENDAR
METHOD:PUBLISH
PRODID:-//4235@www.region-coburg.tv//NONSGML iCalcreator 2.4.3//
VERSION:2.0
BEGIN:VEVENT
UID:4235-20180404201500-20180404000000@www.region-coburg.tv
DTSTAMP:20260421T092443Z
CONTACT:09561 / 239051
CREATED:20180205T195600Z
DESCRIPTION:Katja\, Martina und Nola wohnen in einem Altbau in der Nähe de
 s Berliner Hauptbahnhofs. Die Schauspielerin Katja zweifelt an den Rollen\
 , die sie spielen soll. Um nebenbei etwas Geld zu verdienen\, vermietet si
 e Wohnungen an Touristen. Die Fotografin Martina wiederum will sich nicht 
 ausverkaufen\, um ausgestellt zu werden\, und steht deshalb lieber als Fro
 ntfrau für eine Punk-Band auf der Bühne. Und Nola\, die Dritte im Bunde\
 , produziert gerade einen Film. Darin interviewt sie Künstler\, Wissensch
 aftler\, Theoretiker. Irene von Albertis Film ist absurde Komödie\, Inter
 view-Film und Essay in einem\, er setzt sich aus unterschiedlichen Bruchst
 ücken zusammen\, um ein  umfassendes Bild über die gegenwärtige Diskur
 slage in der Bundesrepublik zu liefern – Gentrifizierung\, ein erstarken
 der rechter Rand\, Feminismus\, Kapitalismuskritik und der Wert der Kunst 
 sind nur einige der angerissenen Themen.VHS-Film der Woche | Deutschland 2
 017 - Tickets: 09561 / 239051
DTEND:20180404T000000
DTSTART:20180404T201500
LAST-MODIFIED:20180205T195600Z
LOCATION:Coburg\, Kino Utopolis
SUMMARY:Der lange Sommer der Theorie
X-IMAGE:http://www.region-coburg.tv/images/medium/vhs-film-1276db0f.jpg
END:VEVENT
END:VCALENDAR
