BEGIN:VCALENDAR
METHOD:PUBLISH
PRODID:-//4234@www.region-coburg.tv//NONSGML iCalcreator 2.4.3//
VERSION:2.0
BEGIN:VEVENT
UID:4234-20180327201500-20180327000000@www.region-coburg.tv
DTSTAMP:20260421T092226Z
CONTACT:09561 / 239051
CREATED:20180205T195400Z
DESCRIPTION:Der 33-jährige Franzose Mathieu macht sich auf den Weg nach Ka
 nada\, als er erfährt\, dass sein leiblicher\, ihm jedoch zeitlebens unbe
 kannter Vater Jean in Montreal gestorben ist und ihm ein Päckchen hinterl
 assen hat. Die Reise führt ihn zu seiner unbekannten Familie und in ein G
 eflecht aus Geheimnissen\, Unstimmigkeiten und mysteriösen Fragen. Gemein
 sam mit Mathieu\, der als Außenstehender in eine ihm fremde Welt kommt\, 
 lässt der Regisseur Philippe Lioret den Zuschauer immer tiefer in diese k
 omplizierte Geschichte eintauchen. Durch viele kleine Details und Kurzauft
 ritte\, die sich wie Puzzleteile in das sich langsam zusammensetzende Gesa
 mtbild einfügen\, erhält der Film eine bemerkenswerte erzählerische Dic
 hte.VHS-Film der Woche | Frankreich\, Kanada 2017 - Tickets: 09561 / 2390
 51
DTEND:20180327T000000
DTSTART:20180327T201500
LAST-MODIFIED:20180205T195400Z
LOCATION:Coburg\, Kino Utopolis
SUMMARY:Die Kanadische Reise
X-IMAGE:http://www.region-coburg.tv/images/medium/vhs-film-1276db0f.jpg
END:VEVENT
END:VCALENDAR
