BEGIN:VCALENDAR
METHOD:PUBLISH
PRODID:-//4228@www.region-coburg.tv//NONSGML iCalcreator 2.4.3//
VERSION:2.0
BEGIN:VEVENT
UID:4228-20180213201500-20180213000000@www.region-coburg.tv
DTSTAMP:20260421T054518Z
CONTACT:09561 / 239051
CREATED:20180205T181100Z
DESCRIPTION:PublikumswunschNeuschottland\, in den 1950er Jahren: Obwohl die
  junge Kanadierin Maud Lewis an schwerer Arthritis leidet\, lässt sich di
 e hilfsbedürftige und geistig etwas zurückgebliebene Frau nicht unterkri
 egen. Sie nimmt eine Aushilfsstelle beimalleinstehenden und verbitterten F
 ischer Everett im örtlichen Gemischtwarenladen an und obwohl sie den Pfli
 chten einer Haushaltshilfe körperlich kaum nachkommen kann\, raufen sich 
 die beiden völlig unterschiedlichen Menschen zusammen. Maud entdeckt ihre
  Leidenschaft für Malerei und beginnt einfache Formen erst auf die Wände
  des Hauses und später auf kleine Holztafeln zu malen. Als Sandra\, eine 
 Frau aus New York City\, eines ihrer Bilder erwerben will\, wird Maud schl
 agartig in der Kunstszene bekannt ...VHS-Film der Woche | Irland\, Kanada 
 2017 - Tickets: 09561 / 239051
DTEND:20180213T000000
DTSTART:20180213T201500
LAST-MODIFIED:20180205T181100Z
LOCATION:Coburg\, Kino Utopolis
SUMMARY:Maudie
X-IMAGE:http://www.region-coburg.tv/images/medium/vhs-film-1276db0f.jpg
END:VEVENT
END:VCALENDAR
