BEGIN:VCALENDAR
METHOD:PUBLISH
PRODID:-//4227@www.region-coburg.tv//NONSGML iCalcreator 2.4.3//
VERSION:2.0
BEGIN:VEVENT
UID:4227-20180207201500-20180207000000@www.region-coburg.tv
DTSTAMP:20260421T054824Z
CONTACT:09561 / 239051
CREATED:20180205T180900Z
DESCRIPTION:Zu Vincent van Gogh muss man nicht viel sagen\, jeder kennt sei
 ne postimpressionistischen Gemälde mit knappen Pinselstrichen in leuchten
 den Farben. Die Stationen seines exzentrischen Lebens sowie die Umstände 
 seines vermutlichen Selbstmordes sind der Inhalt dieses Films\, erzählt i
 n einer Art Detektivgeschichte aus der Perspektive des Sohns des Postmeist
 ers\, der ein Jahr nach van Goghs Tod einen Brief an dessen Bruder überge
 ben soll. Das Besondere: Auf Basis von Szenen mit echten Schauspielern ent
 stand mit ausgeklügelter Animationstechnik ein Film\, der wie ein Vincent
 -van-Gogh-Gemälde aussieht und in eindrucksvollen Szenen die Möglichkeit
  bietet\, zusammen mit der Hauptfigur Armand Roulin in die Welten des Male
 rs einzutauchen.VHS-Film der Woche | Großbritannien\, Polen 2017 - Ticket
 s: 09561 / 239051
DTEND:20180207T000000
DTSTART:20180207T201500
LAST-MODIFIED:20180205T180900Z
LOCATION:Coburg\, Kino Utopolis
SUMMARY:Loving Vincent
X-IMAGE:http://www.region-coburg.tv/images/medium/vhs-film-1276db0f.jpg
END:VEVENT
END:VCALENDAR
