BEGIN:VCALENDAR
METHOD:PUBLISH
PRODID:-//4217@www.region-coburg.tv//NONSGML iCalcreator 2.4.3//
VERSION:2.0
BEGIN:VEVENT
UID:4217-20180128200000-20180128000000@www.region-coburg.tv
DTSTAMP:20260423T125934Z
CONTACT:09561 / 898989
CREATED:20180123T182800Z
DESCRIPTION:Szenische LesungEigentlich kennt der Zuschauer sie aus der RTL-
 Doku „Einsatz in 4 Wänden“. Doch Tine Wittler ist auch Filmproduzenti
 n\, Schauspielerin\, Sängerin\, Fernsehmoderatorin und Buchautorin. Ihr h
 eiter-emotionaler Roman „Die Prinzessin und der Horst“ wird am Sonntag
 \, den 28. Januar in einer szenischen Lesung von den Schauspielerinnen Fri
 ederike Pasch und Katrin Ingendoh in der Reithalle vorgestellt. - Tickets:
  09561 / 898989
DTEND:20180128T000000
DTSTART:20180128T200000
LAST-MODIFIED:20180123T182800Z
LOCATION:Coburg\, Theater in der Reithalle
SUMMARY:Die Prinzessin und der Horst
X-IMAGE:http://www.region-coburg.tv/images/medium/ltc-05101aa5.jpg
END:VEVENT
END:VCALENDAR
