BEGIN:VCALENDAR
METHOD:PUBLISH
PRODID:-//4214@www.region-coburg.tv//NONSGML iCalcreator 2.4.3//
VERSION:2.0
BEGIN:VEVENT
UID:4214-20180124190000-20180124000000@www.region-coburg.tv
DTSTAMP:20260421T054717Z
CONTACT: 09561 / 891420
CREATED:20180118T182400Z
DESCRIPTION:LesungGedichte\, die zum Träumen vom Sommer und der Liebe einl
 aden und Kurzgeschichten zum Nachdenken und Schmunzeln – die Autorinnen 
 Doris Marr-Plasil und Heidi Fischer laden am Mittwoch\, den 24. Januar zu 
 der Lesung „Winterträume“ in die Coburger Stadtbücherei ein. Der Ein
 tritt dazu ist frei. - Tickets:  09561 / 891420
DTEND:20180124T000000
DTSTART:20180124T190000
LAST-MODIFIED:20180118T182400Z
LOCATION:Coburg\, Stadtbücherei
SUMMARY:Winterträume
X-IMAGE:http://www.region-coburg.tv/images/medium/lesung-vh-fb65c6b7.jpg
END:VEVENT
END:VCALENDAR
