BEGIN:VCALENDAR
METHOD:PUBLISH
PRODID:-//4208@www.region-coburg.tv//NONSGML iCalcreator 2.4.3//
VERSION:2.0
BEGIN:VEVENT
UID:4208-20180113160000-20180113000000@www.region-coburg.tv
DTSTAMP:20260423T070931Z
CONTACT:09563 / 30820
CREATED:20180112T175000Z
DESCRIPTION:Karfunkel-TheaterMit handgefertigten Puppen will das Karfunkel-
 Theater aus Burgpreppach die ganz Kleinen begeistern. Das Figurentheaterst
 ück „Schneeball in Gefahr“\, bei dem der kleine Indianerjunge Yakari 
 im Mittelpunkt steht\, ist am Samstag\, den 13. Januar im Coburger Kongres
 shaus und am 15. Januar im Sonneberger Gesellschaftshaus zu sehen. - Ticke
 ts: 09563 / 30820
DTEND:20180113T000000
DTSTART:20180113T160000
LAST-MODIFIED:20180112T175000Z
LOCATION:Kongresshaus Rosengarten
SUMMARY:Yakari - Schneeball in Gefahr
X-IMAGE:http://www.region-coburg.tv/images/medium/yakari-vh-62338266.jpg
END:VEVENT
END:VCALENDAR
