BEGIN:VCALENDAR
METHOD:PUBLISH
PRODID:-//4207@www.region-coburg.tv//NONSGML iCalcreator 2.4.3//
VERSION:2.0
BEGIN:VEVENT
UID:4207-20180127193000-20180127000000@www.region-coburg.tv
DTSTAMP:20260423T112202Z
CONTACT:09561 / 427640
CREATED:20180112T173600Z
DESCRIPTION:Theatergruppe TSV BertelsdorfEs braucht nicht viel und auch kei
 ne Profis\, um das Publikum zum Lachen zu bringen. Die Theatergruppe des T
 SV Bertelsdorf hat den Schwank „Alles Bauerntheater“ von Erich Koch ei
 nstudiert. Premiere für den gagreichen Drei-Akter\, in dem ein trinkfeste
 r Bauer mit einer Kellnerin anbandeln will\, ist Samstag\, der 13. Januar.
  In der Mehrzweckhalle Bertelsdorf folgen noch sechs weitere Vorstellungen
  - Lachsalven garantiert! - Tickets: 09561 / 427640
DTEND:20180127T000000
DTSTART:20180127T193000
LAST-MODIFIED:20180112T173600Z
LOCATION:Mehrzweckhalle Bertelsdorf
SUMMARY:Alles Bauerntheater
X-IMAGE:http://www.region-coburg.tv/images/medium/bauerntheater-vh-23a1ed5f
 .jpg
END:VEVENT
END:VCALENDAR
