BEGIN:VCALENDAR
METHOD:PUBLISH
PRODID:-//4206@www.region-coburg.tv//NONSGML iCalcreator 2.4.3//
VERSION:2.0
BEGIN:VEVENT
UID:4206-20180325110000-20180325000000@www.region-coburg.tv
DTSTAMP:20260423T211312Z
CONTACT:Eintritt frei!
CREATED:20180103T120500Z
DESCRIPTION:GeächtetSchauspiel von Ayad AkhtarLandestheater Coburg\, Matin
 ée zur Premiere am 7. April 2018 - Tickets: Eintritt frei!
DTEND:20180325T000000
DTSTART:20180325T110000
LAST-MODIFIED:20180103T120500Z
LOCATION:Landestheater Coburg\, Reithalle
SUMMARY:Matinée
X-IMAGE:http://www.region-coburg.tv/images/medium/ltc-7b7cb14f.jpg
END:VEVENT
END:VCALENDAR
