BEGIN:VCALENDAR
METHOD:PUBLISH
PRODID:-//4205@www.region-coburg.tv//NONSGML iCalcreator 2.4.3//
VERSION:2.0
BEGIN:VEVENT
UID:4205-20180324150000-20180324000000@www.region-coburg.tv
DTSTAMP:20260423T210751Z
CONTACT:09561 / 898989
CREATED:20180103T120100Z
DESCRIPTION:Suite von Tibor HarsányiConcert for Kids für Menschen ab 6 Ja
 hren Jeder richtige Held muss erst einmal drei Prüfungen bestehen\, bev
 or er die Prinzessin heiraten kann: Und so bekommt es dastapfere Schneide
 rlein mit zwei grimmigen Riesen\, einem scheuen Einhorn und sogar einem 
 rasenden Wildschwein zu tun. Doch für einen\, der sieben auf einen Streic
 h erlegt hat\, sind solche Prüfungen ein Klacks ... Der ungarische Komp
 onist Tibor Harsányi hat das Grimm'sche Märchen in einer Suite für si
 eben Instrumente und einen Sprecher in Tönen festgehalten.Landestheater 
 Coburg - Tickets: 09561 / 898989
DTEND:20180324T000000
DTSTART:20180324T150000
LAST-MODIFIED:20180103T120100Z
LOCATION:Theater in der Reithalle
SUMMARY:Das tapfere Schneiderlein
X-IMAGE:http://www.region-coburg.tv/images/medium/kids-concert-vh-81a36f3f.
 jpg
END:VEVENT
END:VCALENDAR
