BEGIN:VCALENDAR
METHOD:PUBLISH
PRODID:-//4204@www.region-coburg.tv//NONSGML iCalcreator 2.4.3//
VERSION:2.0
BEGIN:VEVENT
UID:4204-20180310160000-20180310000000@www.region-coburg.tv
DTSTAMP:20260423T194313Z
CONTACT:09561 / 898989
CREATED:20180103T114700Z
DESCRIPTION:Familienoper ab 8 Jahren von Pierangelo Valtinoni„Bildschön 
 und kitschfrei.' So urteilte die Deutsche Presseagentur über die neue „
 Pinocchio'-Oper des italienischen Komponisten Pierangelo Valtinoni. Das Be
 sondere daran: Zahlreiche Rollen werden von Kindern übernommen\, wodurch 
 die Geschichte von der Holzpuppe\, die lebendig und erwachsen wird\, auf w
 undervolle Weise kindgerecht wird\, ohne seine Bezüge zur Erwachsenenwelt
  zu verlieren.VideoLandestheater Coburg\, Premiere am 10. März 2018 - Tic
 kets: 09561 / 898989
DTEND:20180310T000000
DTSTART:20180310T160000
LAST-MODIFIED:20180103T114700Z
LOCATION:Landestheater Coburg\, Großes Haus
SUMMARY:Pinocchio
X-IMAGE:http://www.region-coburg.tv/images/medium/pinoccxio-vh-cf2c6b66.jpg
END:VEVENT
END:VCALENDAR
