BEGIN:VCALENDAR
METHOD:PUBLISH
PRODID:-//4203@www.region-coburg.tv//NONSGML iCalcreator 2.4.3//
VERSION:2.0
BEGIN:VEVENT
UID:4203-20180307193000-20180307000000@www.region-coburg.tv
DTSTAMP:20260423T175608Z
CONTACT:09561 / 898989
CREATED:20180101T193600Z
DESCRIPTION:Musical von Cole PorterTracy Samantha Lord. Schon der Name klin
 gt wie ein ganzer Abend am Broadway. Der Name aber gehört einer Society-L
 ady\, die ihre zweite Hochzeit vorbereitet und dabei versucht\, den Report
 ern der New Yorker Klatschpresse tiefere Einblicke in ihr nicht wirklich e
 inwandfreies Familienleben zu verwehren. Während im Nachbarhaus Ex-Mann D
 exter wieder einzieht\, erkennt Tracy\, dass sie ihren neuen Verlobten eig
 entlich gar nicht heiraten möchte. Am Ende wird der Ex der Neue und das H
 appy End ausgiebig gefeiert.VideoLandestheater Coburg\, Premiere am 24. Fe
 bruar 2018 - Tickets: 09561 / 898989
DTEND:20180307T000000
DTSTART:20180307T193000
LAST-MODIFIED:20180101T193600Z
LOCATION:Landestheater Coburg\, Großes Haus
SUMMARY:High Society
X-IMAGE:http://www.region-coburg.tv/images/medium/society-vh-ddba743c.jpg
END:VEVENT
END:VCALENDAR
