BEGIN:VCALENDAR
METHOD:PUBLISH
PRODID:-//4202@www.region-coburg.tv//NONSGML iCalcreator 2.4.3//
VERSION:2.0
BEGIN:VEVENT
UID:4202-20180224110000-20180224000000@www.region-coburg.tv
DTSTAMP:20260423T162740Z
CONTACT:Eintritt frei!
CREATED:20180101T193300Z
DESCRIPTION:PinocchioFamilienoper ab 8 Jahren von Pierangelo ValtinoniLande
 stheater Coburg\, Matinée zur Premiere am 10. März 2018 - Tickets: Eintr
 itt frei!
DTEND:20180224T000000
DTSTART:20180224T110000
LAST-MODIFIED:20180101T193300Z
LOCATION:Landestheater Coburg\, Großes Haus
SUMMARY:Matinée
X-IMAGE:http://www.region-coburg.tv/images/medium/ltc-7b7cb14f.jpg
END:VEVENT
END:VCALENDAR
