BEGIN:VCALENDAR
METHOD:PUBLISH
PRODID:-//4201@www.region-coburg.tv//NONSGML iCalcreator 2.4.3//
VERSION:2.0
BEGIN:VEVENT
UID:4201-20180222170000-20180222000000@www.region-coburg.tv
DTSTAMP:20260423T162525Z
CONTACT:09561 / 898989
CREATED:20180101T192700Z
DESCRIPTION:Krimi für junge Menschen ab 6 Jahren nach dem Roman von Andrea
 s SteinhöfelBühnenfassung von Felicitas LoeweAndreas Steinhöfels Kinder
 buch ist bereits ein junger Klassiker und wurde mit großem Erfolg verfilm
 t. Nun also ermitteln Rico und Oskar auch im Landestheater Coburg. Mit dab
 ei sind natürlich auch all die merkwürdigen Hausbewohner\, denen Rico un
 d Oskar täglich begegnen und denen sie so gern auf die Nerven gehen.Video
 Landestheater Coburg\, Wiederaufnahme - Tickets: 09561 / 898989
DTEND:20180222T000000
DTSTART:20180222T170000
LAST-MODIFIED:20180101T192700Z
LOCATION:Coburg\, Theater in der Reithalle
SUMMARY:Rico\, Oskar und die Tieferschatten
X-IMAGE:http://www.region-coburg.tv/images/medium/rico-vh-a37516bb.jpg
END:VEVENT
END:VCALENDAR
