BEGIN:VCALENDAR
METHOD:PUBLISH
PRODID:-//4200@www.region-coburg.tv//NONSGML iCalcreator 2.4.3//
VERSION:2.0
BEGIN:VEVENT
UID:4200-20180212183000-20180212000000@www.region-coburg.tv
DTSTAMP:20260423T145311Z
CONTACT:Eintritt frei
CREATED:20180101T192300Z
DESCRIPTION:High SocietyMusical von Cole PorterLandestheater Coburg\, Premi
 ere am 24. Februar 2018 - Tickets: Eintritt frei
DTEND:20180212T000000
DTSTART:20180212T183000
LAST-MODIFIED:20180101T192300Z
LOCATION:Landestheater\, Großes Haus
SUMMARY:Soiree
X-IMAGE:http://www.region-coburg.tv/images/medium/ltc-7b7cb14f.jpg
END:VEVENT
END:VCALENDAR
