BEGIN:VCALENDAR
METHOD:PUBLISH
PRODID:-//4199@www.region-coburg.tv//NONSGML iCalcreator 2.4.3//
VERSION:2.0
BEGIN:VEVENT
UID:4199-20180315193000-20180315000000@www.region-coburg.tv
DTSTAMP:20260423T193851Z
CONTACT:09561 / 898989
CREATED:20180101T191700Z
DESCRIPTION:Oper von Gioacchino RossiniAn Gioacchino Rossini mag man verzwe
 ifeln\, aber man muss seine Musik lieben. Was wurde sie in den vergangenen
  Jahrzehnten nicht Note für Note auseinandergenommen. Doch was fasziniert
  uns? Das Ganze\, die Reinheit der Melodie und das feine Gespinst der Ens
 embles\, in denen es so viel zu entdecken gibt\, fast wie in einem überbo
 rdenden Comic. Und wie so mancher gute Märchenstoff wurde auch das Aschen
 puttel zum Thema für ein musikalisches Wimmelbild aus der Rossini-Werksta
 tt.VideoLandestheater Coburg\, Premiere am 3. Februar 2018 - Tickets: 0956
 1 / 898989
DTEND:20180315T000000
DTSTART:20180315T193000
LAST-MODIFIED:20180101T191700Z
LOCATION:Landestheater Coburg\, Großes Haus
SUMMARY:La Cenerentola
X-IMAGE:http://www.region-coburg.tv/images/medium/cenerentola-vh-71a5ba1b.j
 pg
END:VEVENT
END:VCALENDAR
