BEGIN:VCALENDAR
METHOD:PUBLISH
PRODID:-//4198@www.region-coburg.tv//NONSGML iCalcreator 2.4.3//
VERSION:2.0
BEGIN:VEVENT
UID:4198-20180304200000-20180304000000@www.region-coburg.tv
DTSTAMP:20260423T180734Z
CONTACT:09561 / 898989
CREATED:20180101T191200Z
DESCRIPTION:Musik von Igor Strawinsky\, Text von Charles Ferdinand RamuzIn 
 dieser Saison müssen wir uns an den Ersten Weltkrieg und sein Ende vor 10
 0 Jahren erinnern. Igor Strawinskys „Geschichte vom Soldaten' ist aber k
 ein Erinnerungsstück\, sondern die Antwort der jungen Kunst des frühen 2
 0. Jahrhunderts auf die Opulenz und den Größenwahn des 19. Jahrhunderts.
  „Neue Einfachheit' wird diese Bewegung genannt\, die skeptisch auf alle
 s blickte\, was mit wuchtiger Überwältigungsästhetik daherkam.Landesthe
 ater Coburg\, Premiere am 2. Februar 2018 - Tickets: 09561 / 898989
DTEND:20180304T000000
DTSTART:20180304T200000
LAST-MODIFIED:20180101T191200Z
LOCATION:Coburg\, Theater in der Reithalle
SUMMARY:Die Geschichte vom Soldaten
X-IMAGE:http://www.region-coburg.tv/images/medium/soldat-vh-675ce3e7.jpg
END:VEVENT
END:VCALENDAR
