BEGIN:VCALENDAR
METHOD:PUBLISH
PRODID:-//4197@www.region-coburg.tv//NONSGML iCalcreator 2.4.3//
VERSION:2.0
BEGIN:VEVENT
UID:4197-20180124190000-20180124000000@www.region-coburg.tv
DTSTAMP:20260423T112014Z
CONTACT:Eintritt frei
CREATED:20180101T190700Z
DESCRIPTION:Die Geschichte vom SoldatenMusik von Igor Strawinsky\, Text von
  Charles Ferdinand RamuzLandestheater Coburg\, Premiere am 2. Februar 2018
  - Tickets: Eintritt frei
DTEND:20180124T000000
DTSTART:20180124T190000
LAST-MODIFIED:20180101T190700Z
LOCATION:Landestheater Coburg\, Reithalle
SUMMARY:Soiree
X-IMAGE:http://www.region-coburg.tv/images/medium/ltc-7b7cb14f.jpg
END:VEVENT
END:VCALENDAR
