BEGIN:VCALENDAR
METHOD:PUBLISH
PRODID:-//4196@www.region-coburg.tv//NONSGML iCalcreator 2.4.3//
VERSION:2.0
BEGIN:VEVENT
UID:4196-20180121110000-20180121000000@www.region-coburg.tv
DTSTAMP:20260423T084935Z
CONTACT:Eintritt frei!
CREATED:20180101T185100Z
DESCRIPTION:La CenerentolaOper von Gioacchino RossiniLandestheater Coburg\,
  Matinée zur Premiere am 3. Februar 2018 - Tickets: Eintritt frei!
DTEND:20180121T000000
DTSTART:20180121T110000
LAST-MODIFIED:20180101T185100Z
LOCATION:Landestheater Coburg\, Spiegelsaal
SUMMARY:Matinée
X-IMAGE:http://www.region-coburg.tv/images/medium/ltc-7b7cb14f.jpg
END:VEVENT
END:VCALENDAR
