BEGIN:VCALENDAR
METHOD:PUBLISH
PRODID:-//4195@www.region-coburg.tv//NONSGML iCalcreator 2.4.3//
VERSION:2.0
BEGIN:VEVENT
UID:4195-20180120110000-20180120000000@www.region-coburg.tv
DTSTAMP:20260423T084721Z
CONTACT:09561 / 898989
CREATED:20180101T184500Z
DESCRIPTION:Ein musikalisches Märchen von S. ProkofjewConcert for Kids fü
 r Menschen ab 3 JahrenDer Wolf ist tot? Nö\, er ist quicklebendig. Gut 8
 0 Jahre hat Meister Isegrimm nun schon auf dem Pelz\, und noch immer ist 
 Sergej Prokofjews musikalisches Märchen erste Wahl\, wenn es darum geht
 \, junge Hörer für die Welt der klassischen Musik zu begeistern. Einmal
  gehört\, bleibt die fröhlich-singende Geigenmelodie\, mit der Peter d
 urch den Garten hüpft oder das sanfte Klarinettenmotiv\, zu dem die Kat
 ze durchs Gras schleicht\, für immer im Gedächtnis – und so ganz nebe
 nbei lernen die kleinen Zuhörer Klang und Namen der Orchesterinstrument
 e kennen.Landestheater Coburg - Tickets: 09561 / 898989
DTEND:20180120T000000
DTSTART:20180120T110000
LAST-MODIFIED:20180101T184500Z
LOCATION:Landestheater Coburg\, Großes Haus
SUMMARY:Peter und der Wolf
X-IMAGE:http://www.region-coburg.tv/images/medium/kids-concert-vh-81a36f3f.
 jpg
END:VEVENT
END:VCALENDAR
