BEGIN:VCALENDAR
METHOD:PUBLISH
PRODID:-//4194@www.region-coburg.tv//NONSGML iCalcreator 2.4.3//
VERSION:2.0
BEGIN:VEVENT
UID:4194-20180113193000-20180113000000@www.region-coburg.tv
DTSTAMP:20260423T070802Z
CONTACT:09561 / 898989
CREATED:20180101T183900Z
DESCRIPTION:Lustspiel von Heinrich von KleistVon Zeit zu Zeit sieht man den
  Alten gern. Oh\, Verzeihung – falsches Stück. Obwohl: Es stimmt ja\, d
 ass wir den Dorfrichter Adam immer mal wieder gern sehen\, den alten Schwe
 renöter\, der tolldreist das Recht verbiegt\, um den eigenen Kopf aus der
  Schlinge zu ziehen. Heinrich von Kleist hat mit seinem „Zerbrochnen Kru
 g' eine geniale Komödie geschrieben ...VideoLandestheater Coburg\, Premie
 re am 13. Januar 2018 - Tickets: 09561 / 898989
DTEND:20180113T000000
DTSTART:20180113T193000
LAST-MODIFIED:20180101T183900Z
LOCATION:Landestheater Coburg\, Großes Haus
SUMMARY:Der zerbrochne Krug
X-IMAGE:http://www.region-coburg.tv/images/medium/krug-vh-510b9388.jpg
END:VEVENT
END:VCALENDAR
