BEGIN:VCALENDAR
METHOD:PUBLISH
PRODID:-//4193@www.region-coburg.tv//NONSGML iCalcreator 2.4.3//
VERSION:2.0
BEGIN:VEVENT
UID:4193-20180112150000-20180112000000@www.region-coburg.tv
DTSTAMP:20260423T070644Z
CONTACT:09561 / 898989
CREATED:20180101T183200Z
DESCRIPTION:von Andreas TarkmannConcert for Kids für Menschen ab 6 JahrenA
 ntonio Buffo ist ein Meister der Töne\, ein Musikerfinder\, und komponier
 t gerade ein Singspiel. Doch plötzlich sind einzelne Noten wie vom Erdbod
 en verschluckt. Kann der mit dem Fall betraute Ermittler Mister Clearwate
 r Buffo helfen\, den Fall aufzuklären? Und kann der Meister der Töne sei
 n Meisterwerk vollenden? Jörg Schades und Andreas Tarkmanns Musikkrimi na
 ch Noten sucht Antwort auf all diese Fragen ...Landestheater Coburg - Tick
 ets: 09561 / 898989
DTEND:20180112T000000
DTSTART:20180112T150000
LAST-MODIFIED:20180101T183200Z
LOCATION:Theater in der Reithalle
SUMMARY:Herr Buffo und der Notendieb
X-IMAGE:http://www.region-coburg.tv/images/medium/buffo-vh-ed46012a.jpg
END:VEVENT
END:VCALENDAR
