BEGIN:VCALENDAR
METHOD:PUBLISH
PRODID:-//4192@www.region-coburg.tv//NONSGML iCalcreator 2.4.3//
VERSION:2.0
BEGIN:VEVENT
UID:4192-20180107110000-20180107000000@www.region-coburg.tv
DTSTAMP:20260423T054549Z
CONTACT:Eintritt frei!
CREATED:20180101T182100Z
DESCRIPTION:Der zerbrochne KrugLustspiel von Heinrich von KleistLandestheat
 er Coburg\, Matinée zur Premiere am 13. Januar 2018 - Tickets: Eintritt f
 rei!
DTEND:20180107T000000
DTSTART:20180107T110000
LAST-MODIFIED:20180101T182100Z
LOCATION:Landestheater Coburg\, Reithalle
SUMMARY:Matinée
X-IMAGE:http://www.region-coburg.tv/images/medium/ltc-7b7cb14f.jpg
END:VEVENT
END:VCALENDAR
