BEGIN:VCALENDAR
METHOD:PUBLISH
PRODID:-//4185@www.region-coburg.tv//NONSGML iCalcreator 2.4.3//
VERSION:2.0
BEGIN:VEVENT
UID:4185-20171231200000-20171231000000@www.region-coburg.tv
DTSTAMP:20260423T035015Z
CONTACT:09561 / 898989
CREATED:20171223T183200Z
DESCRIPTION:Landestheater CoburgVerabschieden Sie – frei nach dem Motto d
 es Prinzen Orlofsky aus der Fledermaus – mit dem Ensemble des Musiktheat
 ers das alte Jahr zu Melodien der Goldenen und Silbernen Operette sowie Sc
 hlagern der 1920er und 30er Jahre. Im Separé wird getechtelt und gemechte
 lt was das Zeug hält\, zu Klängen der Heimat gilt es nicht den Kopf zu v
 erlieren\, auch wenn es rote Rosen regnet\, hat die Dame nichts anzuziehn\
 , und wenn in der Nacht der Mensch nicht gern allein ist\, ja dann gilt: N
 ur nicht aus Liebe weinen! - Tickets: 09561 / 898989
DTEND:20171231T000000
DTSTART:20171231T200000
LAST-MODIFIED:20171223T183200Z
LOCATION:Theater in der Reithalle
SUMMARY:Wir laden uns gern Gäste ein
X-IMAGE:http://www.region-coburg.tv/images/medium/gaeste-vh-213c1afe.jpg
END:VEVENT
END:VCALENDAR
