BEGIN:VCALENDAR
METHOD:PUBLISH
PRODID:-//4179@www.region-coburg.tv//NONSGML iCalcreator 2.4.3//
VERSION:2.0
BEGIN:VEVENT
UID:4179-20171216200000-20171216000000@www.region-coburg.tv
DTSTAMP:20260423T223202Z
CONTACT:09561 / 8531503
CREATED:20171214T192300Z
DESCRIPTION:WeihnachtsvarietéEine weihnachtliche Geschichte verpackt in ei
 ne Varietéshow – das gibt es bei „Zimt und Zauber“. Das traditionel
 le Weihnachtsvarieté mit Artistik\, Musik\, Zauberkunst und Comedy wird v
 on internationalen Künstlern präsentiert und findet vom 14. bis zum 17. 
 Dezember im Pfarrzentrum S. Augustin in Coburg statt. - Tickets: 09561 / 8
 531503
DTEND:20171216T000000
DTSTART:20171216T200000
LAST-MODIFIED:20171214T192300Z
LOCATION:Pfarrzentrum St. Augustin
SUMMARY:Zimt & Zauber
X-IMAGE:http://www.region-coburg.tv/images/medium/zimt-zauber-vh-1a370539.j
 pg
END:VEVENT
END:VCALENDAR
