BEGIN:VCALENDAR
METHOD:PUBLISH
PRODID:-//4172@www.region-coburg.tv//NONSGML iCalcreator 2.4.3//
VERSION:2.0
BEGIN:VEVENT
UID:4172-20171125200000-20171125000000@www.region-coburg.tv
DTSTAMP:20260422T155353Z
CONTACT:09561 / 898989
CREATED:20171123T204600Z
DESCRIPTION:Liederabend in der ReithalleFranz Schuberts letzte Komposition\
 , eine postum veröffentlichte Liedersammlung\, erhielt den Namen „Schwa
 nengesang“. Unter diesem Titel findet am Samstag\, den 25. November ein 
 Liederabend in der Reithalle statt. Dabei werden den Liedern des „Schwan
 engesangs' Texte von Schuberts Zeitgenossen und engen Freunden beigestellt
 \, darunter Briefe\, Gedichte und Tagebucheinträge von Grillparzer\, Mayr
 hofer oder Franz von Schober. Mitwirkende sind der Bariton Martin Trepl\, 
 Antonio Grimaldi am Klavier und Sprecher Bernd Frittrang. - Tickets: 09561
  / 898989
DTEND:20171125T000000
DTSTART:20171125T200000
LAST-MODIFIED:20171123T204600Z
LOCATION:Theater in der Reithalle
SUMMARY:Schwanengesang
X-IMAGE:http://www.region-coburg.tv/images/medium/schwanen-vh-f5c05329.jpg
END:VEVENT
END:VCALENDAR
