BEGIN:VCALENDAR
METHOD:PUBLISH
PRODID:-//4171@www.region-coburg.tv//NONSGML iCalcreator 2.4.3//
VERSION:2.0
BEGIN:VEVENT
UID:4171-20180131201500-20180131000000@www.region-coburg.tv
DTSTAMP:20260421T054531Z
CONTACT:09561 / 239051
CREATED:20171121T201100Z
DESCRIPTION:PublikumswunschAuf der Suche nach dem Glück reisen der Filmema
 cher Felix Stark\, seine Freundin Selima Taibi sowie ihr Berner Sennenhund
  in einem zu einer Art Wohnmobil umgebauten Schulbus quer über den amerik
 anischen Kontinent vom Norden Alaskas bis in den Süden Argentiniens. Star
 ck\, der durch seine Fahrrad-Dokumentation „Pedal The World“ berühmt 
 wurde\, führt für diesen Film ein Videotagebuch und lässt die Zuschauer
  an den erlebten Abenteuern teilhaben. Die Reise jenseits aller ausgetrete
 nen Pfade führt in außergewöhnliche Landschaften und zu interessanten B
 egegnungen mit der einheimischen Bevölkerung.VHS-Film der Woche | Deutsch
 land 2017 - Tickets: 09561 / 239051
DTEND:20180131T000000
DTSTART:20180131T201500
LAST-MODIFIED:20171121T201100Z
LOCATION:Coburg\, Kino Utopolis
SUMMARY:Expedition Happiness
X-IMAGE:http://www.region-coburg.tv/images/medium/vhs-film-1276db0f.jpg
END:VEVENT
END:VCALENDAR
