BEGIN:VCALENDAR
METHOD:PUBLISH
PRODID:-//4169@www.region-coburg.tv//NONSGML iCalcreator 2.4.3//
VERSION:2.0
BEGIN:VEVENT
UID:4169-20180116201500-20180116000000@www.region-coburg.tv
DTSTAMP:20260421T054646Z
CONTACT:09561 / 239051
CREATED:20171121T200800Z
DESCRIPTION:Die schillernde Story um Liebe\, Leidenschaft sowie einen myste
 riösen Todesfall basiert auf einer Romanvorlage von Daphne de Maurier und
  ist ein Remake des Films von 1952 mit Richard Burton. Der junge englische
  Gentleman Philip ist durch die schwärmerischen\, aber zunehmend seltsame
 r berichtenden Briefe seines Ziehvaters Ambrose\, höchst besorgt und reis
 t zu ihm\, trifft ihn aber nicht mehr lebend an. Er verdächtigt die bishe
 r unbekannte Ehefrau und nun Witwe Rachel des Mordes. Doch kaum begegnet e
 r ihr\, verliebt er sich Hals über Kopf in sie und scheint als naiver Lov
 er eine leichte Beute für die charmante Frau. Bis er sich der Briefe erin
 nert ...VHS-Film der Woche | Großbritannien\, USA 2017 - Tickets: 09561 /
  239051
DTEND:20180116T000000
DTSTART:20180116T201500
LAST-MODIFIED:20171121T200800Z
LOCATION:Coburg\, Kino Utopolis
SUMMARY:Cousine Rachel
X-IMAGE:http://www.region-coburg.tv/images/medium/vhs-film-1276db0f.jpg
END:VEVENT
END:VCALENDAR
