BEGIN:VCALENDAR
METHOD:PUBLISH
PRODID:-//4168@www.region-coburg.tv//NONSGML iCalcreator 2.4.3//
VERSION:2.0
BEGIN:VEVENT
UID:4168-20180109201500-20180109000000@www.region-coburg.tv
DTSTAMP:20260421T054824Z
CONTACT:09561 / 239051
CREATED:20171121T200600Z
DESCRIPTION:Als die Frau des 92-jährigen Eduard Leander stirbt\, möchte d
 ieser sich zu einer letzten Reise nach Kiew aufmachen\, wo der ehemalige W
 ehrmachtsoffizier während des Zweiten Weltkriegs seine große Liebe zurü
 cklassen musste. Beauftragt von Eduards Tochter Uli\, soll Adele\, ihre To
 chter und Eduards Enkelin\, ihn davon abhalten. Doch stattdessen reisen di
 e beiden zusammen im Zug Richtung Ukraine\, wo gerade der Krim-Krieg mit N
 achbarland Russland ausgebrochen ist. Die Fahrt durch Polen in die Ukraine
  und weiter in die Nähe der russischen Grenze wird für Adele zur Geschic
 htstunde über die deutsche Vergangenheit und die des Großvaters. Alsbald
  gesellt sich Lew dazu\, ein Ukrainer russischer Herkunft. Durch ihn rück
 t der aktuelle politische Konflikt in den Mittelpunkt\, denn Teile seiner 
 Familie leben im ukrainisch beherrschten Westen des Landes\, andere im rus
 sisch geprägten Osten.VHS-Film der Woche | Deutschland 2017 - Tickets: 0
 9561 / 239051
DTEND:20180109T000000
DTSTART:20180109T201500
LAST-MODIFIED:20171121T200600Z
LOCATION:Coburg\, Kino Utopolis
SUMMARY:Leanders letzte Reise
X-IMAGE:http://www.region-coburg.tv/images/medium/vhs-film-1276db0f.jpg
END:VEVENT
END:VCALENDAR
