BEGIN:VCALENDAR
METHOD:PUBLISH
PRODID:-//4167@www.region-coburg.tv//NONSGML iCalcreator 2.4.3//
VERSION:2.0
BEGIN:VEVENT
UID:4167-20180102201500-20180102000000@www.region-coburg.tv
DTSTAMP:20260421T040913Z
CONTACT:09561 / 239051
CREATED:20171121T200400Z
DESCRIPTION:Mit hochemotionalen Szenen und sinnliches Bildern erzählt die 
 britischbengalische Regisseurin Gurinder Chadha in einem opulenten\, erhel
 lenden Historienepos die blutige Teilung Indiens und ihre eigene Familieng
 eschichte. 1947 zieht Lord Mountbatten mit seiner Familie in den prunkvoll
 en Palast mit über 500 Bediensteten mit dem Auftrag\, die Kronkolonie nac
 h 300 Jahren britischer Herrschaft in die Unabhängigkeit zu entlassen. Al
 s sein Butler\, der junge Hindu Jeet\, seine Jugendliebe\, die hübsche Mu
 slima Aalia\, trifft\, wird deutlich\, wie gespalten das Volk von Hindus\,
  Muslimen und Sikhs durch die koloniale Politik ist. Das filmische Gesells
 chaftsporträt hilft zu begreifen\, wie Konflikte gesät und Feindschaften
  erzeugt wurden und wie koloniale Machtstrukturen immer noch nachwirken.VH
 S-Film der Woche | Großbritannien\, Indien 2017 - Tickets: 09561 / 239051
DTEND:20180102T000000
DTSTART:20180102T201500
LAST-MODIFIED:20171121T200400Z
LOCATION:Coburg\, Kino Utopolis
SUMMARY:Der Stern von Indien
X-IMAGE:http://www.region-coburg.tv/images/medium/vhs-film-1276db0f.jpg
END:VEVENT
END:VCALENDAR
