BEGIN:VCALENDAR
METHOD:PUBLISH
PRODID:-//4166@www.region-coburg.tv//NONSGML iCalcreator 2.4.3//
VERSION:2.0
BEGIN:VEVENT
UID:4166-20171219201500-20171219000000@www.region-coburg.tv
DTSTAMP:20260421T041129Z
CONTACT:09561 / 239051
CREATED:20171121T200200Z
DESCRIPTION:Auf eine Kneipentour der besonderen Art entführen die ruhigen\
 , fast statischen Bilder und die dezente Barmusik dieses Film. Charles Sch
 umann\, Betreiber der angesagten Münchener Bar „Schumann‘s“\, führ
 t durch eine Reihe der berühmtesten Bars in New York\, Havanna\, Tokio un
 d anderen Städten. Er wird dabei  zum angenehmen und kundigen Reisebegle
 iter\, der charmant\, humorvoll und klug zu plaudern weiß und dem Geheimn
 is der Barkultur auf den Grund zu kommen versucht. Charles  Schumann lieb
 t Geschichten und erzählt nach und nach auch die eigene Geschichte seit d
 er Zeit\, als er in den 80er Jahren in München seine erste Bar eröffnete
 .VHS-Film der Woche | Deutschland 2017 - Tickets: 09561 / 239051
DTEND:20171219T000000
DTSTART:20171219T201500
LAST-MODIFIED:20171121T200200Z
LOCATION:Coburg\, Kino Utopolis
SUMMARY:Schumanns Bargespräche
X-IMAGE:http://www.region-coburg.tv/images/medium/vhs-film-1276db0f.jpg
END:VEVENT
END:VCALENDAR
