BEGIN:VCALENDAR
METHOD:PUBLISH
PRODID:-//4165@www.region-coburg.tv//NONSGML iCalcreator 2.4.3//
VERSION:2.0
BEGIN:VEVENT
UID:4165-20171212201500-20171212000000@www.region-coburg.tv
DTSTAMP:20260421T041636Z
CONTACT:09561 / 239051
CREATED:20171121T200000Z
DESCRIPTION:Das Sprichwort\, das die Ã„hnlichkeit zwischen TÃ¶chtern und MÃ
 ¼ttern beschreibt\, scheint bei den beiden Protagonisten des Films zunÃ¤ch
 st nicht zuzutreffen\, denn die Tochter Avril ist mit ihren 30 Jahren deut
 lich reifer als die dem Jugendwahnverfallene 47-jÃ¤hrige Mutter Mado\, mit
  der sie und ihr Freund Louis unter einem Dach leben mÃ¼ssen. Die komplizi
 erte Mutter-Tochter-Beziehung rutscht vollends ins Chaos ab\, als die beid
 en ungleichen Frauen gleichzeitig schwanger werden. â€žWie die Mutter\, so
  die Tochterâ€œ ist eine typisch franzÃ¶sische KomÃ¶die\, die von einer un
 gewÃ¶hnlichen Familie handelt\, immer wieder kuriose Wendungen nimmt und a
 m Ende doch das eine Thema hat: die Liebe.VHS-Film der Woche | Frankreich 
 2017 - Tickets: 09561 / 239051
DTEND:20171212T000000
DTSTART:20171212T201500
LAST-MODIFIED:20171121T200000Z
LOCATION:Coburg\, Kino Utopolis
SUMMARY:Wie die Mutter\, so die Tochter
X-IMAGE:http://www.region-coburg.tv/images/medium/vhs-film-1276db0f.jpg
END:VEVENT
END:VCALENDAR
