BEGIN:VCALENDAR
METHOD:PUBLISH
PRODID:-//4164@www.region-coburg.tv//NONSGML iCalcreator 2.4.3//
VERSION:2.0
BEGIN:VEVENT
UID:4164-20171206201500-20171206000000@www.region-coburg.tv
DTSTAMP:20260421T041016Z
CONTACT:09561 / 239051
CREATED:20171121T195800Z
DESCRIPTION:PublikumswunschDas sogenannte Tulpenfieber bezeichnet eine Epis
 ode in den Niederlanden des frühen 17. Jahrhunderts\, in der Tulpenzwiebe
 ln zum Spekulationsobjekt und sprichwörtlich wertvoller wurden als Diaman
 ten! Der Film entführt mit opulenten Bilden in diese Zeit und erzählt di
 e Geschichte des wohlhabenden Amsterdamer Kaufmanns Cornelis Sandvoort\, d
 er seine von ihm leidenschaftlich geliebte Frau Sophia von dem jungen und 
 überaus talentierten Maler Jan Van Loos porträtieren lassen möchte. Doc
 h damit beginnt eine gefährliche Affäre zwischen dem Künstler und der F
 rau. Kann ihre teuerste Tulpenzwiebel die Liebe retten indem sie eine Übe
 rfahrt in die neue Welt finanziert?VHS-Film der Woche | USA\, Großbritann
 ien 2017 - Tickets: 09561 / 239051
DTEND:20171206T000000
DTSTART:20171206T201500
LAST-MODIFIED:20171121T195800Z
LOCATION:Coburg\, Kino Utopolis
SUMMARY:Tulpenfieber
X-IMAGE:http://www.region-coburg.tv/images/medium/vhs-film-1276db0f.jpg
END:VEVENT
END:VCALENDAR
