BEGIN:VCALENDAR
METHOD:PUBLISH
PRODID:-//4163@www.region-coburg.tv//NONSGML iCalcreator 2.4.3//
VERSION:2.0
BEGIN:VEVENT
UID:4163-20171128201500-20171128000000@www.region-coburg.tv
DTSTAMP:20260421T041128Z
CONTACT:09561 / 239051
CREATED:20171121T195400Z
DESCRIPTION:Im Jahr 2006 warnte der ehemalige US-Vizepräsident Al Gore im 
 Dokumentarfilm „Eine unbequeme Wahrheit“ vor den dramatischen Folgen d
 er globalen Erwärmung. In dieser Fortsetzung\, 11 Jahre später\, reist G
 ore um die Welt für eine Bestandsaufnahme. Gezeigt werden positive  Entw
 icklungen durch umweltfreundliche Technologien und negative Veränderungen
  durch den fortschreitenden Klimawandel. Der Film dokumentiert weiterhin G
 espräche Gores mit Politikern auf der ganzen Welt und lässt internationa
 le Klimaexperten zu Wort kommen.VHS-Film der Woche | USA 2017 - Tickets: 0
 9561 / 239051
DTEND:20171128T000000
DTSTART:20171128T201500
LAST-MODIFIED:20171121T195400Z
LOCATION:Coburg\, Kino Utopolis
SUMMARY:Immer noch eine unbequeme Wahrheit
X-IMAGE:http://www.region-coburg.tv/images/medium/vhs-film-1276db0f.jpg
END:VEVENT
END:VCALENDAR
