BEGIN:VCALENDAR
METHOD:PUBLISH
PRODID:-//4158@www.region-coburg.tv//NONSGML iCalcreator 2.4.3//
VERSION:2.0
BEGIN:VEVENT
UID:4158-20171116193000-20171116000000@www.region-coburg.tv
DTSTAMP:20260421T040913Z
CONTACT: 09561 / 25808
CREATED:20171106T204600Z
DESCRIPTION:Lesung im KunstvereinEr wäre am 21. Dezember 100 Jahre alt gew
 orden\, einer der wichtigsten Literaten der deutschen Nachkriegszeit und L
 iteratur-Nobelpreisträger von 1972: Heinrich Böll. Prof. Dr. Ralf Schnel
 l\, Kenner der deutschsprachigen Gegenwartsliteratur und Mitherausgeber de
 r Kölner Ausgabe der Werke Bölls hat zu diesem runden Geburtstag ein Buc
 h verfasst. 'Heinrich Böll und die Deutschen'.  Der Autor stellt sein ne
 ues Werk am Donnerstag\, den 16. November im Kunstverein Coburg vor. - Tic
 kets:  09561 / 25808
DTEND:20171116T000000
DTSTART:20171116T193000
LAST-MODIFIED:20171106T204600Z
LOCATION:Coburg\, Pavillon im Hofgarten
SUMMARY:Heinrich Böll und die Deutschen
X-IMAGE:http://www.region-coburg.tv/images/medium/boell-vh-2a25a7ea.jpg
END:VEVENT
END:VCALENDAR
