BEGIN:VCALENDAR
METHOD:PUBLISH
PRODID:-//4152@www.region-coburg.tv//NONSGML iCalcreator 2.4.3//
VERSION:2.0
BEGIN:VEVENT
UID:4152-20171104200000-20171104000000@www.region-coburg.tv
DTSTAMP:20260421T041312Z
CONTACT:NP GeschÃ¤ftsstellen
CREATED:20171031T095900Z
DESCRIPTION:11. Kneipennacht der Neuen PresseEchte\, handgemachte Musik â€“
  die gibt es am Samstag\, den 04. November bei der 11. Neue Presse-Kneipen
 nacht. Nicht weniger als 14 Bands sorgen in 12 Locations der Innenstadt fÃ
 ¼r heiÃŸe Partystimmung im trÃ¼ben November. Von Blues\, Funk\, Cool Jazz\
 , Ska\, Rock bis hin zu Country\, Pop und Soul reicht das Musikspektrum fÃ
 ¼r die Live-Musik-Fans. - Tickets: NP GeschÃ¤ftsstellen
DTEND:20171104T000000
DTSTART:20171104T200000
LAST-MODIFIED:20171031T095900Z
LOCATION:Coburg\, Innenstadt
SUMMARY:Neue Presse Kneipennacht
X-IMAGE:http://www.region-coburg.tv/images/medium/kneipennacht-vh-b28b0c42.
 jpg
END:VEVENT
END:VCALENDAR
