BEGIN:VCALENDAR
METHOD:PUBLISH
PRODID:-//4150@www.region-coburg.tv//NONSGML iCalcreator 2.4.3//
VERSION:2.0
BEGIN:VEVENT
UID:4150-20180107180000-20180107000000@www.region-coburg.tv
DTSTAMP:20260423T054713Z
CONTACT:09561 / 898989
CREATED:20171028T181000Z
DESCRIPTION:Schauspiel von George BrantEine Kampfpilotin muss umsatteln. Ge
 rade noch flog sie mit mehrfacher Schallgeschwindigkeit selbst durch die W
 olken\, und nun sitzt sie in einem klimatisierten und dunklen AnhÃ¤nger am
  Stadtrand von Las Vegas. Nur Ã¼ber Bildschirme verfolgt sie\, was sie frÃ
 ¼her selbst durchs Cockpit-Fenster sah\, denn sie steuert nun eine Drohne 
 Ã¼ber die Bergmassive Afghanistans. Die RealitÃ¤t ist 8000 Kilometer weit 
 weg\, und doch ist sie nur knapp eine Sekunde davon entfernt.VideoLandesth
 eater Coburg\, Premiere am 24. November 2017 - Tickets: 09561 / 898989
DTEND:20180107T000000
DTSTART:20180107T180000
LAST-MODIFIED:20171028T181000Z
LOCATION:Theater in der Reithalle
SUMMARY:Am Boden
X-IMAGE:http://www.region-coburg.tv/images/medium/boden-vh-55cb9f62.jpg
END:VEVENT
END:VCALENDAR
