BEGIN:VCALENDAR
METHOD:PUBLISH
PRODID:-//4149@www.region-coburg.tv//NONSGML iCalcreator 2.4.3//
VERSION:2.0
BEGIN:VEVENT
UID:4149-20171214193000-20171214000000@www.region-coburg.tv
DTSTAMP:20260423T223144Z
CONTACT:09561 / 898989
CREATED:20171028T180300Z
DESCRIPTION:Operette von Franz LehárEs gibt eine lange Tradition\, dass Mu
 siktheaterwerke für einzelne Solisten komponiert wurden. Giacomo Rossini\
 , Meister der sogenannten „Kofferopern'\, komponierte für Sängerinnen 
 und Sänger\, die er besonders schätzte oder die er an den Opernhäusern\
 , für die er engagiert wurde\, vorfand. Dann kramte er musikalische Baust
 eine aus seinem „Koffer' und setzte sie neu zusammen – quasi maßgesch
 neidert von der Stange. Franz Lehár war ein meisterlicher Erbe Rossinis. 
 Seine Operette „Das Land des Lächelns' war in ihrer erfolgreichen zweit
 en Fassung ganz auf den Tenor Richard Tauber hin ausgelegt.VideoLandesthea
 ter Coburg\, Premiere am 2. Dezember 2017 - Tickets: 09561 / 898989
DTEND:20171214T000000
DTSTART:20171214T193000
LAST-MODIFIED:20171028T180300Z
LOCATION:Landestheater Coburg\, Großes Haus
SUMMARY:Das Land des Lächelns
X-IMAGE:http://www.region-coburg.tv/images/medium/laecheln-vh-964d4f7d.jpg
END:VEVENT
END:VCALENDAR
